BEGIN:VCALENDAR
VERSION:2.0
PRODID:-//Community Table - ECPv6.15.20//NONSGML v1.0//EN
CALSCALE:GREGORIAN
METHOD:PUBLISH
X-WR-CALNAME:Community Table
X-ORIGINAL-URL:https://cotable.org
X-WR-CALDESC:Events for Community Table
REFRESH-INTERVAL;VALUE=DURATION:PT1H
X-Robots-Tag:noindex
X-PUBLISHED-TTL:PT1H
BEGIN:VTIMEZONE
TZID:UTC
BEGIN:STANDARD
TZOFFSETFROM:+0000
TZOFFSETTO:+0000
TZNAME:UTC
DTSTART:20250101T000000
END:STANDARD
END:VTIMEZONE
BEGIN:VEVENT
DTSTART;TZID=UTC:20260423T160000
DTEND;TZID=UTC:20260423T173000
DTSTAMP:20260423T121123
CREATED:20251223T192504Z
LAST-MODIFIED:20251223T192550Z
UID:10003361-1776960000-1776965400@cotable.org
SUMMARY:GED Tutoring & Test Prep
DESCRIPTION:For more info\, please call 720-437-6398.
URL:https://cotable.org/event/ged-tutoring-test-prep-2/2026-04-23/
END:VEVENT
BEGIN:VEVENT
DTSTART;TZID=UTC:20260424T110000
DTEND;TZID=UTC:20260424T120000
DTSTAMP:20260423T121123
CREATED:20260306T171227Z
LAST-MODIFIED:20260306T171227Z
UID:10003483-1777028400-1777032000@cotable.org
SUMMARY:Senior 65+ Shopping Hour
DESCRIPTION:Dedicated shopping hour for older adults\, age 65+. Fridays\, from 11:00 a.m. to 12:00 p.m.
URL:https://cotable.org/event/senior-65-shopping-hour/2026-04-24/
END:VEVENT
BEGIN:VEVENT
DTSTART;TZID=UTC:20260424T120000
DTEND;TZID=UTC:20260424T160000
DTSTAMP:20260423T121123
CREATED:20260325T162209Z
LAST-MODIFIED:20260325T172931Z
UID:10003521-1777032000-1777046400@cotable.org
SUMMARY:Archwell Health - Healthcare for Seniors
DESCRIPTION:Speak to a representative in our lobby.
URL:https://cotable.org/event/archwell-health-healthcare-for-seniors-17/
CATEGORIES:Get Help
END:VEVENT
BEGIN:VEVENT
DTSTART;VALUE=DATE:20260427
DTEND;VALUE=DATE:20260428
DTSTAMP:20260423T121123
CREATED:20250604T195255Z
LAST-MODIFIED:20250604T195319Z
UID:10002800-1777248000-1777334399@cotable.org
SUMMARY:CLOSED on Mondays
DESCRIPTION:Community Table is closed on Mondays.
URL:https://cotable.org/event/closed-on-mondays/2026-04-27/
END:VEVENT
BEGIN:VEVENT
DTSTART;TZID=UTC:20260428T090000
DTEND;TZID=UTC:20260428T150000
DTSTAMP:20260423T121123
CREATED:20250917T160920Z
LAST-MODIFIED:20260421T144428Z
UID:10003457-1777366800-1777388400@cotable.org
SUMMARY:FREE Laundry Services  Now On Tuesdays
DESCRIPTION:Last load at 1:00 pm. Weather permitting. Community Table parking lot: 4600 W 60th Avenue in Arvada.
URL:https://cotable.org/event/free-laundry-services-now-on-tuesdays/2026-04-28/
CATEGORIES:Get Help
END:VEVENT
BEGIN:VEVENT
DTSTART;TZID=UTC:20260428T120000
DTEND;TZID=UTC:20260428T140000
DTSTAMP:20260423T121123
CREATED:20260325T180610Z
LAST-MODIFIED:20260325T180610Z
UID:10003531-1777377600-1777384800@cotable.org
SUMMARY:Ask a Dietitian
DESCRIPTION:Colorado Nutrition Counseling representatives are in our lobby from 12:00 – 2:00 pm.
URL:https://cotable.org/event/ask-a-dietitian-3/
CATEGORIES:Get Help
END:VEVENT
BEGIN:VEVENT
DTSTART;TZID=UTC:20260428T160000
DTEND;TZID=UTC:20260428T173000
DTSTAMP:20260423T121123
CREATED:20250523T155423Z
LAST-MODIFIED:20251223T191552Z
UID:10003228-1777392000-1777397400@cotable.org
SUMMARY:GED Tutoring & Test Prep
DESCRIPTION:For more info\, please call 720-437-6398.
URL:https://cotable.org/event/ged-tutoring-test-prep/2026-04-28/
END:VEVENT
BEGIN:VEVENT
DTSTART;TZID=UTC:20260430T093000
DTEND;TZID=UTC:20260430T131500
DTSTAMP:20260423T121123
CREATED:20260325T181009Z
LAST-MODIFIED:20260325T181045Z
UID:10003532-1777541400-1777554900@cotable.org
SUMMARY:Blood Drive in Community Room
DESCRIPTION:
URL:https://cotable.org/event/blood-drive-in-community-room-2/
END:VEVENT
BEGIN:VEVENT
DTSTART;TZID=UTC:20260430T160000
DTEND;TZID=UTC:20260430T173000
DTSTAMP:20260423T121123
CREATED:20251223T192504Z
LAST-MODIFIED:20251223T192550Z
UID:10003362-1777564800-1777570200@cotable.org
SUMMARY:GED Tutoring & Test Prep
DESCRIPTION:For more info\, please call 720-437-6398.
URL:https://cotable.org/event/ged-tutoring-test-prep-2/2026-04-30/
END:VEVENT
END:VCALENDAR